
BEGIN:VCALENDAR
VERSION:2.0
CALSCALE:GREGORIAN
BEGIN:VEVENT
URL;VALUE=URI:https://www.boardoftrade.com/events/6772
DTSTART:20210923T000000Z
DTEND:20210923T020000Z
UID:6772eventcalendar.boardoftrade.com
DTSTAMP:20260419T160320Z
LOCATION:SCIENCE WORLD Green Roof Terrace | 1455 Quebec St. Vancouver | 
DESCRIPTION:Schedule: \nNetworking: 5:00 - 7:00 p.m.\n \nEvent Detail Page: https://www.boardoftrade.com/events/6772
X-ALT-DESC;FMTTYPE=text/html:<!doctype html><html><body><div>Schedule: <p>Networking: 5:00 - 7:00 p.m.</p></div>&nbsp\;<div>Event Detail Page: https://www.boardoftrade.com/events/6772</div></body></html>

SUMMARY:An Evening at Science World
END:VEVENT
END:VCALENDAR