
BEGIN:VCALENDAR
VERSION:2.0
CALSCALE:GREGORIAN
BEGIN:VEVENT
URL;VALUE=URI:https://www.boardoftrade.com/events/6769
DTSTART:20210720T190000Z
DTEND:20210720T201500Z
UID:6769eventcalendar.boardoftrade.com
DTSTAMP:20260419T173249Z
LOCATION:
DESCRIPTION:Schedule: \nOnline Program 12:00 - 1:15 p.m. PT\n \nEvent Detail Page: https://www.boardoftrade.com/events/6769
X-ALT-DESC;FMTTYPE=text/html:<!doctype html><html><body><div>Schedule: <p>Online Program 12:00 - 1:15 p.m. PT</p></div>&nbsp\;<div>Event Detail Page: https://www.boardoftrade.com/events/6769</div></body></html>

SUMMARY:B.C. -  Mexico: Trade and Investment Opportunities
END:VEVENT
END:VCALENDAR