
BEGIN:VCALENDAR
VERSION:2.0
CALSCALE:GREGORIAN
BEGIN:VEVENT
URL;VALUE=URI:https://www.boardoftrade.com/events/6766
DTSTART:20211207T170000Z
DTEND:20211207T203000Z
UID:6766eventcalendar.boardoftrade.com
DTSTAMP:20260419T160548Z
LOCATION:
DESCRIPTION:Schedule: \nDay 1 - Tuesday\, December 7\nProgram: 9:00 a.m.  - 12:30 p.m.\n\nDay 2 - Wednesday\, December 8\nProgram: 9:00 a.m.  - 12:30 p.m.\n \nEvent Detail Page: https://www.boardoftrade.com/events/6766
X-ALT-DESC;FMTTYPE=text/html:<!doctype html><html><body><div>Schedule: <p>Day 1 - Tuesday\, December 7<BR>Program: 9:00 a.m.  - 12:30 p.m.<BR><BR>Day 2 - Wednesday\, December 8<BR>Program: 9:00 a.m.  - 12:30 p.m.</p></div>&nbsp\;<div>Event Detail Page: https://www.boardoftrade.com/events/6766</div></body></html>

SUMMARY:Integrated e-Commerce Essentials - Tri-Cites & Delta
END:VEVENT
END:VCALENDAR