
BEGIN:VCALENDAR
VERSION:2.0
CALSCALE:GREGORIAN
BEGIN:VEVENT
URL;VALUE=URI:https://www.boardoftrade.com/events/6765
DTSTART:20210907T160000Z
DTEND:20210907T193000Z
UID:6765eventcalendar.boardoftrade.com
DTSTAMP:20260419T173003Z
LOCATION:
DESCRIPTION:Schedule: \nDay 1 - September 7\nProgram: 9:00 a.m.  - 12:30 p.m.\n\nDay 2 - September 8\nProgram: 9:00 a.m.  - 12:30 p.m.\n \nEvent Detail Page: https://www.boardoftrade.com/events/6765
X-ALT-DESC;FMTTYPE=text/html:<!doctype html><html><body><div>Schedule: <p>Day 1 - September 7<BR>Program: 9:00 a.m.  - 12:30 p.m.<BR><BR>Day 2 - September 8<BR>Program: 9:00 a.m.  - 12:30 p.m.</p></div>&nbsp\;<div>Event Detail Page: https://www.boardoftrade.com/events/6765</div></body></html>

SUMMARY:Integrated e-Commerce Essentials - Okanagan Valley
END:VEVENT
END:VCALENDAR