
BEGIN:VCALENDAR
VERSION:2.0
CALSCALE:GREGORIAN
BEGIN:VEVENT
URL;VALUE=URI:https://www.boardoftrade.com/events/6764
DTSTART:20210805T190000Z
DTEND:20210805T200000Z
UID:6764eventcalendar.boardoftrade.com
DTSTAMP:20260419T173014Z
LOCATION:
DESCRIPTION:Schedule: \nOnline Program: 12:00 - 1:00 p.m. PT\n \nEvent Detail Page: https://www.boardoftrade.com/events/6764
X-ALT-DESC;FMTTYPE=text/html:<!doctype html><html><body><div>Schedule: <p>Online Program: 12:00 - 1:00 p.m. PT</p></div>&nbsp\;<div>Event Detail Page: https://www.boardoftrade.com/events/6764</div></body></html>

SUMMARY:Creating safe and brave workplaces for our 2SLGBTQ+ communities
END:VEVENT
END:VCALENDAR