
BEGIN:VCALENDAR
VERSION:2.0
CALSCALE:GREGORIAN
BEGIN:VEVENT
URL;VALUE=URI:https://www.boardoftrade.com/events/6763
DTSTART:20211014T200000Z
DTEND:20211014T220000Z
UID:6763eventcalendar.boardoftrade.com
DTSTAMP:20260419T160456Z
LOCATION:
DESCRIPTION:Schedule: \nOnline Program 1:00 - 3:00 p.m. PT\n \nEvent Detail Page: https://www.boardoftrade.com/events/6763
X-ALT-DESC;FMTTYPE=text/html:<!doctype html><html><body><div>Schedule: <p>Online Program 1:00 - 3:00 p.m. PT</p></div>&nbsp\;<div>Event Detail Page: https://www.boardoftrade.com/events/6763</div></body></html>

SUMMARY:Celebrating Innovation Accelerators
END:VEVENT
END:VCALENDAR