
BEGIN:VCALENDAR
VERSION:2.0
CALSCALE:GREGORIAN
BEGIN:VEVENT
URL;VALUE=URI:https://www.boardoftrade.com/events/6759
DTSTART:20210715T233000Z
DTEND:20210716T013000Z
UID:6759eventcalendar.boardoftrade.com
DTSTAMP:20260419T173432Z
LOCATION:Pacific Yacht Charters | 1601 Bayshore Drive | Vancouver | 
DESCRIPTION:Schedule: \n4:30 - 6:30 p.m.\n \nEvent Detail Page: https://www.boardoftrade.com/events/6759
X-ALT-DESC;FMTTYPE=text/html:<!doctype html><html><body><div>Schedule: <p>4:30 - 6:30 p.m.</p></div>&nbsp\;<div>Event Detail Page: https://www.boardoftrade.com/events/6759</div></body></html>

SUMMARY:Members' Reception with Pacific Yacht Charters
END:VEVENT
END:VCALENDAR