
BEGIN:VCALENDAR
VERSION:2.0
CALSCALE:GREGORIAN
BEGIN:VEVENT
URL;VALUE=URI:https://www.boardoftrade.com/events/6757
DTSTART:20210628T190000Z
DTEND:20210628T200000Z
UID:6757eventcalendar.boardoftrade.com
DTSTAMP:20260419T174400Z
LOCATION:
DESCRIPTION:Schedule: \nOnline Program 12:00 - 1:00 p.m. PT\n \nEvent Detail Page: https://www.boardoftrade.com/events/6757
X-ALT-DESC;FMTTYPE=text/html:<!doctype html><html><body><div>Schedule: <p>Online Program 12:00 - 1:00 p.m. PT</p></div>&nbsp\;<div>Event Detail Page: https://www.boardoftrade.com/events/6757</div></body></html>

SUMMARY:Rebuilding Tourism in the Region
END:VEVENT
END:VCALENDAR