
BEGIN:VCALENDAR
VERSION:2.0
CALSCALE:GREGORIAN
BEGIN:VEVENT
URL;VALUE=URI:https://www.boardoftrade.com/events/6755
DTSTART:20210825T200000Z
DTEND:20210826T000000Z
UID:6755eventcalendar.boardoftrade.com
DTSTAMP:20260419T174503Z
LOCATION:
DESCRIPTION:Schedule: \nFirst Tee Time: 1:00 p.m. \nSubsequent foursomes will tee of in ten-minute increments.\n \nEvent Detail Page: https://www.boardoftrade.com/events/6755
X-ALT-DESC;FMTTYPE=text/html:<!doctype html><html><body><div>Schedule: <p>First Tee Time: 1:00 p.m. <BR>Subsequent foursomes will tee of in ten-minute increments.</p></div>&nbsp\;<div>Event Detail Page: https://www.boardoftrade.com/events/6755</div></body></html>

SUMMARY:GVBOT Members Golf Tour - Westwood Plateau
END:VEVENT
END:VCALENDAR