
BEGIN:VCALENDAR
VERSION:2.0
CALSCALE:GREGORIAN
BEGIN:VEVENT
URL;VALUE=URI:https://www.boardoftrade.com/events/6752
DTSTART:20210624T010000Z
DTEND:20210624T023000Z
UID:6752eventcalendar.boardoftrade.com
DTSTAMP:20260419T173111Z
LOCATION:
DESCRIPTION:Schedule: \nOnline Program: 6:00 - 7:30 p.m. PT\n \nEvent Detail Page: https://www.boardoftrade.com/events/6752
X-ALT-DESC;FMTTYPE=text/html:<!doctype html><html><body><div>Schedule: <p>Online Program: 6:00 - 7:30 p.m. PT</p></div>&nbsp\;<div>Event Detail Page: https://www.boardoftrade.com/events/6752</div></body></html>

SUMMARY:Discovery Series: 15th Annual Speed Networking Night
END:VEVENT
END:VCALENDAR