
BEGIN:VCALENDAR
VERSION:2.0
CALSCALE:GREGORIAN
BEGIN:VEVENT
URL;VALUE=URI:https://www.boardoftrade.com/events/6750
DTSTART:20211104T160000Z
DTEND:20211104T174500Z
UID:6750eventcalendar.boardoftrade.com
DTSTAMP:20260419T160505Z
LOCATION:
DESCRIPTION:Schedule: \nOnline Program 9:00 - 10:30 a.m. PT\n \nEvent Detail Page: https://www.boardoftrade.com/events/6750
X-ALT-DESC;FMTTYPE=text/html:<!doctype html><html><body><div>Schedule: <p>Online Program 9:00 - 10:30 a.m. PT</p></div>&nbsp\;<div>Event Detail Page: https://www.boardoftrade.com/events/6750</div></body></html>

SUMMARY:Indigenous Opportunities 2021: Building an inclusive recovery - Day 2
END:VEVENT
END:VCALENDAR