
BEGIN:VCALENDAR
VERSION:2.0
CALSCALE:GREGORIAN
BEGIN:VEVENT
URL;VALUE=URI:https://www.boardoftrade.com/events/6747
DTSTART:20210616T160000Z
DTEND:20210616T173000Z
UID:6747eventcalendar.boardoftrade.com
DTSTAMP:20260419T173035Z
LOCATION:
DESCRIPTION:Schedule: \nOnline Program: 9:00 - 10:30 a.m. PT\n \nEvent Detail Page: https://www.boardoftrade.com/events/6747
X-ALT-DESC;FMTTYPE=text/html:<!doctype html><html><body><div>Schedule: <p>Online Program: 9:00 - 10:30 a.m. PT</p></div>&nbsp\;<div>Event Detail Page: https://www.boardoftrade.com/events/6747</div></body></html>

SUMMARY:Board 101 - Member Orientation
END:VEVENT
END:VCALENDAR