
BEGIN:VCALENDAR
VERSION:2.0
CALSCALE:GREGORIAN
BEGIN:VEVENT
URL;VALUE=URI:https://www.boardoftrade.com/events/6745
DTSTART:20210706T190000Z
DTEND:20210706T200000Z
UID:6745eventcalendar.boardoftrade.com
DTSTAMP:20260419T171853Z
LOCATION:
DESCRIPTION:Schedule: \nOnline Program: 12:00 - 1:00 p.m. PT\n \nEvent Detail Page: https://www.boardoftrade.com/events/6745
X-ALT-DESC;FMTTYPE=text/html:<!doctype html><html><body><div>Schedule: <p>Online Program: 12:00 - 1:00 p.m. PT</p></div>&nbsp\;<div>Event Detail Page: https://www.boardoftrade.com/events/6745</div></body></html>

SUMMARY:Leaning into Discomfort: Embracing difficult conversations
END:VEVENT
END:VCALENDAR