
BEGIN:VCALENDAR
VERSION:2.0
CALSCALE:GREGORIAN
BEGIN:VEVENT
URL;VALUE=URI:https://www.boardoftrade.com/events/6743
DTSTART:20210812T163000Z
DTEND:20210813T010000Z
UID:6743eventcalendar.boardoftrade.com
DTSTAMP:20260419T171801Z
LOCATION:Westwood Plateau Golf &amp\; Country Club | 3251 Plateau Blvd  | Coquitlam | 
DESCRIPTION:Schedule: \nRegistration and breakfast: 9:30 a.m. \n\nShotgun start: 11:00 a.m. \n\nPost Golf Networking and Awards: 5:00 p.m.\n \nEvent Detail Page: https://www.boardoftrade.com/events/6743
X-ALT-DESC;FMTTYPE=text/html:<!doctype html><html><body><div>Schedule: <p>Registration and breakfast: 9:30 a.m. <BR><BR><b>Shotgun start: 11:00 a.m. </b><BR><BR>Post Golf Networking and Awards: 5:00 p.m.</p></div>&nbsp\;<div>Event Detail Page: https://www.boardoftrade.com/events/6743</div></body></html>

SUMMARY:Pro-Am Golf Tournament
END:VEVENT
END:VCALENDAR