
BEGIN:VCALENDAR
VERSION:2.0
CALSCALE:GREGORIAN
BEGIN:VEVENT
URL;VALUE=URI:https://www.boardoftrade.com/events/6737
DTSTART:20210422T160000Z
DTEND:20210422T170000Z
UID:6737eventcalendar.boardoftrade.com
DTSTAMP:20260419T191238Z
LOCATION:
DESCRIPTION:Schedule: \nOnline Program 9:00 - 10:00 a.m. PT\n \nEvent Detail Page: https://www.boardoftrade.com/events/6737
X-ALT-DESC;FMTTYPE=text/html:<!doctype html><html><body><div>Schedule: <p>Online Program 9:00 - 10:00 a.m. PT</p></div>&nbsp\;<div>Event Detail Page: https://www.boardoftrade.com/events/6737</div></body></html>

SUMMARY:2021 Federal Budget with Chrystia Freeland
END:VEVENT
END:VCALENDAR