
BEGIN:VCALENDAR
VERSION:2.0
CALSCALE:GREGORIAN
BEGIN:VEVENT
URL;VALUE=URI:https://www.boardoftrade.com/events/6734
DTSTART:20210422T220000Z
DTEND:20210422T230000Z
UID:6734eventcalendar.boardoftrade.com
DTSTAMP:20260419T191212Z
LOCATION:
DESCRIPTION:Schedule: \nOnline Program 3:00 - 4:00 p.m. PT\n \nEvent Detail Page: https://www.boardoftrade.com/events/6734
X-ALT-DESC;FMTTYPE=text/html:<!doctype html><html><body><div>Schedule: <p>Online Program 3:00 - 4:00 p.m. PT</p></div>&nbsp\;<div>Event Detail Page: https://www.boardoftrade.com/events/6734</div></body></html>

SUMMARY:B.C. Budget Recap
END:VEVENT
END:VCALENDAR