
BEGIN:VCALENDAR
VERSION:2.0
CALSCALE:GREGORIAN
BEGIN:VEVENT
URL;VALUE=URI:https://www.boardoftrade.com/events/6727
DTSTART:20210429T003000Z
DTEND:20210429T013000Z
UID:6727eventcalendar.boardoftrade.com
DTSTAMP:20260419T191347Z
LOCATION:
DESCRIPTION:Schedule: \nOnline Program: 5:30 - 6:30 p.m. PT\n \nEvent Detail Page: https://www.boardoftrade.com/events/6727
X-ALT-DESC;FMTTYPE=text/html:<!doctype html><html><body><div>Schedule: <p>Online Program: 5:30 - 6:30 p.m. PT</p></div>&nbsp\;<div>Event Detail Page: https://www.boardoftrade.com/events/6727</div></body></html>

SUMMARY:LOT Mentors Roundtable
END:VEVENT
END:VCALENDAR