
BEGIN:VCALENDAR
VERSION:2.0
CALSCALE:GREGORIAN
BEGIN:VEVENT
URL;VALUE=URI:https://www.boardoftrade.com/events/6725
DTSTART:20210430T190000Z
DTEND:20210430T200000Z
UID:6725eventcalendar.boardoftrade.com
DTSTAMP:20260419T173234Z
LOCATION:
DESCRIPTION:Schedule: \nOnline Program 12:00 - 1:00 p.m. PT\n \nEvent Detail Page: https://www.boardoftrade.com/events/6725
X-ALT-DESC;FMTTYPE=text/html:<!doctype html><html><body><div>Schedule: <p>Online Program 12:00 - 1:00 p.m. PT</p></div>&nbsp\;<div>Event Detail Page: https://www.boardoftrade.com/events/6725</div></body></html>

SUMMARY:Stronger Together: SFU\, the pandemic and lessons for a better future
END:VEVENT
END:VCALENDAR