
BEGIN:VCALENDAR
VERSION:2.0
CALSCALE:GREGORIAN
BEGIN:VEVENT
URL;VALUE=URI:https://www.boardoftrade.com/events/6724
DTSTART:20210520T150000Z
DTEND:20210616T193000Z
UID:6724eventcalendar.boardoftrade.com
DTSTAMP:20260419T173233Z
LOCATION:
DESCRIPTION:Event Detail Page: https://www.boardoftrade.com/events/6724
X-ALT-DESC;FMTTYPE=text/html:<!doctype html><html><body><div>Event Detail Page: https://www.boardoftrade.com/events/6724</div></body></html>

SUMMARY:National Business Crews: Network with participants across Canada
END:VEVENT
END:VCALENDAR