
BEGIN:VCALENDAR
VERSION:2.0
CALSCALE:GREGORIAN
BEGIN:VEVENT
URL;VALUE=URI:https://www.boardoftrade.com/events/6716
DTSTART:20210624T160000Z
DTEND:20210624T180000Z
UID:6716eventcalendar.boardoftrade.com
DTSTAMP:20260419T174355Z
LOCATION:
DESCRIPTION:Schedule: \nOnline Program 9 - 11 a.m. PT\n \nEvent Detail Page: https://www.boardoftrade.com/events/6716
X-ALT-DESC;FMTTYPE=text/html:<!doctype html><html><body><div>Schedule: <p>Online Program 9 - 11 a.m. PT</p></div>&nbsp\;<div>Event Detail Page: https://www.boardoftrade.com/events/6716</div></body></html>

SUMMARY:Race and Ethnicity in Canada
END:VEVENT
END:VCALENDAR