
BEGIN:VCALENDAR
VERSION:2.0
CALSCALE:GREGORIAN
BEGIN:VEVENT
URL;VALUE=URI:https://www.boardoftrade.com/events/6715
DTSTART:20210617T160000Z
DTEND:20210617T180000Z
UID:6715eventcalendar.boardoftrade.com
DTSTAMP:20260419T171836Z
LOCATION:
DESCRIPTION:Schedule: \nOnline Program 9 - 11  a.m. PT\n \nEvent Detail Page: https://www.boardoftrade.com/events/6715
X-ALT-DESC;FMTTYPE=text/html:<!doctype html><html><body><div>Schedule: <p>Online Program 9 - 11  a.m. PT</p></div>&nbsp\;<div>Event Detail Page: https://www.boardoftrade.com/events/6715</div></body></html>

SUMMARY:Including Persons with Disabilities
END:VEVENT
END:VCALENDAR