
BEGIN:VCALENDAR
VERSION:2.0
CALSCALE:GREGORIAN
BEGIN:VEVENT
URL;VALUE=URI:https://www.boardoftrade.com/events/6714
DTSTART:20210610T160000Z
DTEND:20210610T180000Z
UID:6714eventcalendar.boardoftrade.com
DTSTAMP:20260419T174448Z
LOCATION:
DESCRIPTION:Schedule: \nOnline Program 9  - 11  a.m. PT\n \nEvent Detail Page: https://www.boardoftrade.com/events/6714
X-ALT-DESC;FMTTYPE=text/html:<!doctype html><html><body><div>Schedule: <p>Online Program 9  - 11  a.m. PT</p></div>&nbsp\;<div>Event Detail Page: https://www.boardoftrade.com/events/6714</div></body></html>

SUMMARY:Indigenous Inclusion
END:VEVENT
END:VCALENDAR