
BEGIN:VCALENDAR
VERSION:2.0
CALSCALE:GREGORIAN
BEGIN:VEVENT
URL;VALUE=URI:https://www.boardoftrade.com/events/6711
DTSTART:20210527T160000Z
DTEND:20210527T180000Z
UID:6711eventcalendar.boardoftrade.com
DTSTAMP:20260419T173405Z
LOCATION:
DESCRIPTION:Schedule: \nOnline Program 9  - 11  a.m. PT\n \nEvent Detail Page: https://www.boardoftrade.com/events/6711
X-ALT-DESC;FMTTYPE=text/html:<!doctype html><html><body><div>Schedule: <p>Online Program 9  - 11  a.m. PT</p></div>&nbsp\;<div>Event Detail Page: https://www.boardoftrade.com/events/6711</div></body></html>

SUMMARY:Gender in the Workplace
END:VEVENT
END:VCALENDAR