
BEGIN:VCALENDAR
VERSION:2.0
CALSCALE:GREGORIAN
BEGIN:VEVENT
URL;VALUE=URI:https://www.boardoftrade.com/events/6710
DTSTART:20210519T190000Z
DTEND:20210519T200000Z
UID:6710eventcalendar.boardoftrade.com
DTSTAMP:20260419T174446Z
LOCATION:
DESCRIPTION:Schedule: \nOnline Program 12:00 - 1:00 p.m. PT\n\n \nEvent Detail Page: https://www.boardoftrade.com/events/6710
X-ALT-DESC;FMTTYPE=text/html:<!doctype html><html><body><div>Schedule: <p>Online Program 12:00 - 1:00 p.m. PT<BR></p></div>&nbsp\;<div>Event Detail Page: https://www.boardoftrade.com/events/6710</div></body></html>

SUMMARY:Get Started with Selling on Amazon Canada
END:VEVENT
END:VCALENDAR