
BEGIN:VCALENDAR
VERSION:2.0
CALSCALE:GREGORIAN
BEGIN:VEVENT
URL;VALUE=URI:https://www.boardoftrade.com/events/6708
DTSTART:20210427T160000Z
DTEND:20210427T170000Z
UID:6708eventcalendar.boardoftrade.com
DTSTAMP:20260419T191217Z
LOCATION:
DESCRIPTION:Event Detail Page: https://www.boardoftrade.com/events/6708
X-ALT-DESC;FMTTYPE=text/html:<!doctype html><html><body><div>Event Detail Page: https://www.boardoftrade.com/events/6708</div></body></html>

SUMMARY:Board 101 - Member Orientation
END:VEVENT
END:VCALENDAR