
BEGIN:VCALENDAR
VERSION:2.0
CALSCALE:GREGORIAN
BEGIN:VEVENT
URL;VALUE=URI:https://www.boardoftrade.com/events/6707
DTSTART:20210415T230000Z
DTEND:20210416T000000Z
UID:6707eventcalendar.boardoftrade.com
DTSTAMP:20260419T191426Z
LOCATION:
DESCRIPTION:Schedule: \nReception: 4:00 - 5:00 p.m. PT\n \nEvent Detail Page: https://www.boardoftrade.com/events/6707
X-ALT-DESC;FMTTYPE=text/html:<!doctype html><html><body><div>Schedule: <p>Reception: 4:00 - 5:00 p.m. PT</p></div>&nbsp\;<div>Event Detail Page: https://www.boardoftrade.com/events/6707</div></body></html>

SUMMARY:Virtual Members' Reception
END:VEVENT
END:VCALENDAR