
BEGIN:VCALENDAR
VERSION:2.0
CALSCALE:GREGORIAN
BEGIN:VEVENT
URL;VALUE=URI:https://www.boardoftrade.com/events/6698
DTSTART:20210303T020000Z
DTEND:20210303T030000Z
UID:6698eventcalendar.boardoftrade.com
DTSTAMP:20260419T192835Z
LOCATION:
DESCRIPTION:Schedule: \nOnline Program: 6:00 - 7:30 p.m.\n\n\n<i>You will be sent a Zoom link to participate in this event by 2:00 p.m. PT on March 2nd. Please don’t share the link as it will inhibit your ability to join.</i>\n \nEvent Detail Page: https://www.boardoftrade.com/events/6698
X-ALT-DESC;FMTTYPE=text/html:<!doctype html><html><body><div>Schedule: <p>Online Program: 6:00 - 7:30 p.m.<BR><BR><BR><i>You will be sent a Zoom link to participate in this event by 2:00 p.m. PT on March 2nd. Please don’t share the link as it will inhibit your ability to join.</i></p></div>&nbsp\;<div>Event Detail Page: https://www.boardoftrade.com/events/6698</div></body></html>

SUMMARY:Navigating Change and Embracing Uncertainty
END:VEVENT
END:VCALENDAR