
BEGIN:VCALENDAR
VERSION:2.0
CALSCALE:GREGORIAN
BEGIN:VEVENT
URL;VALUE=URI:https://www.boardoftrade.com/events/6697
DTSTART:20210318T230000Z
DTEND:20210319T003000Z
UID:6697eventcalendar.boardoftrade.com
DTSTAMP:20260419T191126Z
LOCATION:
DESCRIPTION:Schedule: \nReception: 4:00 - 5:00 p.m. PT\n \nEvent Detail Page: https://www.boardoftrade.com/events/6697
X-ALT-DESC;FMTTYPE=text/html:<!doctype html><html><body><div>Schedule: <p>Reception: 4:00 - 5:00 p.m. PT</p></div>&nbsp\;<div>Event Detail Page: https://www.boardoftrade.com/events/6697</div></body></html>

SUMMARY:Members' Social - Vancouver Mysteries
END:VEVENT
END:VCALENDAR