
BEGIN:VCALENDAR
VERSION:2.0
CALSCALE:GREGORIAN
BEGIN:VEVENT
URL;VALUE=URI:https://www.boardoftrade.com/events/6695
DTSTART:20210224T170000Z
DTEND:20210224T180000Z
UID:6695eventcalendar.boardoftrade.com
DTSTAMP:20260419T191239Z
LOCATION:
DESCRIPTION:Event Detail Page: https://www.boardoftrade.com/events/6695
X-ALT-DESC;FMTTYPE=text/html:<!doctype html><html><body><div>Event Detail Page: https://www.boardoftrade.com/events/6695</div></body></html>

SUMMARY:Board 101 - Member Orientation
END:VEVENT
END:VCALENDAR