
BEGIN:VCALENDAR
VERSION:2.0
CALSCALE:GREGORIAN
BEGIN:VEVENT
URL;VALUE=URI:https://www.boardoftrade.com/events/6694
DTSTART:20210216T200000Z
DTEND:20210216T210000Z
UID:6694eventcalendar.boardoftrade.com
DTSTAMP:20260419T191512Z
LOCATION:
DESCRIPTION:Schedule: \nOnline Program 12:00 - 1:00 p.m. PT\n \nEvent Detail Page: https://www.boardoftrade.com/events/6694
X-ALT-DESC;FMTTYPE=text/html:<!doctype html><html><body><div>Schedule: <p>Online Program 12:00 - 1:00 p.m. PT</p></div>&nbsp\;<div>Event Detail Page: https://www.boardoftrade.com/events/6694</div></body></html>

SUMMARY:Building a stronger B.C. for everyone
END:VEVENT
END:VCALENDAR