
BEGIN:VCALENDAR
VERSION:2.0
CALSCALE:GREGORIAN
BEGIN:VEVENT
URL;VALUE=URI:https://www.boardoftrade.com/events/6693
DTSTART:20210225T233000Z
DTEND:20210226T003000Z
UID:6693eventcalendar.boardoftrade.com
DTSTAMP:20260419T191412Z
LOCATION:
DESCRIPTION:Schedule: \nOnline Program 3:30 - 4:30 p.m. PT\n \nEvent Detail Page: https://www.boardoftrade.com/events/6693
X-ALT-DESC;FMTTYPE=text/html:<!doctype html><html><body><div>Schedule: <p>Online Program 3:30 - 4:30 p.m. PT</p></div>&nbsp\;<div>Event Detail Page: https://www.boardoftrade.com/events/6693</div></body></html>

SUMMARY:The Artificial Intelligence Journey
END:VEVENT
END:VCALENDAR