
BEGIN:VCALENDAR
VERSION:2.0
CALSCALE:GREGORIAN
BEGIN:VEVENT
URL;VALUE=URI:https://www.boardoftrade.com/events/6690
DTSTART:20210302T200000Z
DTEND:20210302T210000Z
UID:6690eventcalendar.boardoftrade.com
DTSTAMP:20260419T191412Z
LOCATION:
DESCRIPTION:Schedule: \nOnline Program 12:00 - 1:00 p.m. PT\n \nEvent Detail Page: https://www.boardoftrade.com/events/6690
X-ALT-DESC;FMTTYPE=text/html:<!doctype html><html><body><div>Schedule: <p>Online Program 12:00 - 1:00 p.m. PT</p></div>&nbsp\;<div>Event Detail Page: https://www.boardoftrade.com/events/6690</div></body></html>

SUMMARY:Conversation with The Honourable Catherine McKenna
END:VEVENT
END:VCALENDAR