
BEGIN:VCALENDAR
VERSION:2.0
CALSCALE:GREGORIAN
BEGIN:VEVENT
URL;VALUE=URI:https://www.boardoftrade.com/events/6683
DTSTART:20210406T160000Z
DTEND:20210407T023000Z
UID:6683eventcalendar.boardoftrade.com
DTSTAMP:20260419T191300Z
LOCATION:
DESCRIPTION:Schedule: \nRegistration:  8:45  - 9:00 a.m. \nProgram:  9:00 a.m. - 12:00p.m.\n\n\n \nEvent Detail Page: https://www.boardoftrade.com/events/6683
X-ALT-DESC;FMTTYPE=text/html:<!doctype html><html><body><div>Schedule: <p>Registration: &nbsp\;8:45  - 9:00 a.m. <BR>Program: &nbsp\;9:00 a.m. - 12:00p.m.<BR><BR></p></div>&nbsp\;<div>Event Detail Page: https://www.boardoftrade.com/events/6683</div></body></html>

SUMMARY:Trade Accelerator Program- Okanagan Valley Cohort
END:VEVENT
END:VCALENDAR