
BEGIN:VCALENDAR
VERSION:2.0
CALSCALE:GREGORIAN
BEGIN:VEVENT
URL;VALUE=URI:https://www.boardoftrade.com/events/6680
DTSTART:20210122T183000Z
DTEND:20210122T193000Z
UID:6680eventcalendar.boardoftrade.com
DTSTAMP:20260419T191217Z
LOCATION:
DESCRIPTION:Schedule: \nOnline Program 10:30 - 11:30 a.m. PT\n \nEvent Detail Page: https://www.boardoftrade.com/events/6680
X-ALT-DESC;FMTTYPE=text/html:<!doctype html><html><body><div>Schedule: <p>Online Program 10:30 - 11:30 a.m. PT</p></div>&nbsp\;<div>Event Detail Page: https://www.boardoftrade.com/events/6680</div></body></html>

SUMMARY:A conversation with Minister Joly on British Columbia’s Economic Future
END:VEVENT
END:VCALENDAR