
BEGIN:VCALENDAR
VERSION:2.0
CALSCALE:GREGORIAN
BEGIN:VEVENT
URL;VALUE=URI:https://www.boardoftrade.com/events/6677
DTSTART:20210513T190000Z
DTEND:20210513T203000Z
UID:6677eventcalendar.boardoftrade.com
DTSTAMP:20260419T174341Z
LOCATION:
DESCRIPTION:Schedule: \nOnline Program 12:00 - 1:30 p.m. PT\n \nEvent Detail Page: https://www.boardoftrade.com/events/6677
X-ALT-DESC;FMTTYPE=text/html:<!doctype html><html><body><div>Schedule: <p>Online Program 12:00 - 1:30 p.m. PT</p></div>&nbsp\;<div>Event Detail Page: https://www.boardoftrade.com/events/6677</div></body></html>

SUMMARY:ESG: Building a foundation for recovery\, growth and resilience
END:VEVENT
END:VCALENDAR