
BEGIN:VCALENDAR
VERSION:2.0
CALSCALE:GREGORIAN
BEGIN:VEVENT
URL;VALUE=URI:https://www.boardoftrade.com/events/6674
DTSTART:20210121T150000Z
DTEND:20210121T170000Z
UID:6674eventcalendar.boardoftrade.com
DTSTAMP:20260419T191238Z
LOCATION:
DESCRIPTION:Schedule: \nOnline Program 7:00 - 9:00 a.m. PST\n\nVirtual Room 1: \nBritish Columbia Companies hosted by WTC-Mumbai\n\nVirtual Room 2: \nIndia Companies hosted by WTC-Vancouver\n \nEvent Detail Page: https://www.boardoftrade.com/events/6674
X-ALT-DESC;FMTTYPE=text/html:<!doctype html><html><body><div>Schedule: <p>Online Program 7:00 - 9:00 a.m. PST<BR><BR>Virtual Room 1: <BR>British Columbia Companies hosted by WTC-Mumbai<BR><BR>Virtual Room 2: <BR>India Companies hosted by WTC-Vancouver</p></div>&nbsp\;<div>Event Detail Page: https://www.boardoftrade.com/events/6674</div></body></html>

SUMMARY:BC-India Trade and Investment Opportunities: Infrastructure (Engineering)
END:VEVENT
END:VCALENDAR