
BEGIN:VCALENDAR
VERSION:2.0
CALSCALE:GREGORIAN
BEGIN:VEVENT
URL;VALUE=URI:https://www.boardoftrade.com/events/6673
DTSTART:20210129T020000Z
DTEND:20210129T034500Z
UID:6673eventcalendar.boardoftrade.com
DTSTAMP:20260419T191124Z
LOCATION:
DESCRIPTION:Schedule: \nOnline Program: 6:00 - 7:45 p.m.\n\n\n<i>You will be sent a Zoom link to participate in this event by 4:00 p.m. PT on January 27. Please don’t share the link as it will inhibit your ability to join.</i>\n \nEvent Detail Page: https://www.boardoftrade.com/events/6673
X-ALT-DESC;FMTTYPE=text/html:<!doctype html><html><body><div>Schedule: <p>Online Program: 6:00 - 7:45 p.m.<BR><BR><BR><i>You will be sent a Zoom link to participate in this event by 4:00 p.m. PT on January 27. Please don’t share the link as it will inhibit your ability to join.</i></p></div>&nbsp\;<div>Event Detail Page: https://www.boardoftrade.com/events/6673</div></body></html>

SUMMARY:Lean into your Strengths. Pull your Career Forward
END:VEVENT
END:VCALENDAR