
BEGIN:VCALENDAR
VERSION:2.0
CALSCALE:GREGORIAN
BEGIN:VEVENT
URL;VALUE=URI:https://www.boardoftrade.com/events/6672
DTSTART:20210330T190000Z
DTEND:20210330T200000Z
UID:6672eventcalendar.boardoftrade.com
DTSTAMP:20260419T191211Z
LOCATION:
DESCRIPTION:Schedule: \nOnline Program 12:00 - 1:00 p.m. PT\n\n\n \nEvent Detail Page: https://www.boardoftrade.com/events/6672
X-ALT-DESC;FMTTYPE=text/html:<!doctype html><html><body><div>Schedule: <p>Online Program 12:00 - 1:00 p.m. PT<BR><BR></p></div>&nbsp\;<div>Event Detail Page: https://www.boardoftrade.com/events/6672</div></body></html>

SUMMARY:Doing Business with the Government of Canada
END:VEVENT
END:VCALENDAR