
BEGIN:VCALENDAR
VERSION:2.0
CALSCALE:GREGORIAN
BEGIN:VEVENT
URL;VALUE=URI:https://www.boardoftrade.com/events/6665
DTSTART:20210309T170000Z
DTEND:20210309T203000Z
UID:6665eventcalendar.boardoftrade.com
DTSTAMP:20260419T191259Z
LOCATION:
DESCRIPTION:Schedule: \nDay 1 - March 9\nProgram: 9:00 a.m.  - 12:30 p.m.\n\nDay 2 - March 10\nProgram: 9:00 a.m.  - 12:30 p.m.\n\n \nEvent Detail Page: https://www.boardoftrade.com/events/6665
X-ALT-DESC;FMTTYPE=text/html:<!doctype html><html><body><div>Schedule: <p>Day 1 - March 9<BR>Program: 9:00 a.m.  - 12:30 p.m.<BR><BR>Day 2 - March 10<BR>Program: 9:00 a.m.  - 12:30 p.m.<BR></p></div>&nbsp\;<div>Event Detail Page: https://www.boardoftrade.com/events/6665</div></body></html>

SUMMARY:Integrated e-Commerce Essentials
END:VEVENT
END:VCALENDAR