
BEGIN:VCALENDAR
VERSION:2.0
CALSCALE:GREGORIAN
BEGIN:VEVENT
URL;VALUE=URI:https://www.boardoftrade.com/events/6660
DTSTART:20210121T170000Z
DTEND:20210121T183000Z
UID:6660eventcalendar.boardoftrade.com
DTSTAMP:20260419T191410Z
LOCATION:
DESCRIPTION:Schedule: \nOnline Program 9:00 - 10:30 a.m.\n \nEvent Detail Page: https://www.boardoftrade.com/events/6660
X-ALT-DESC;FMTTYPE=text/html:<!doctype html><html><body><div>Schedule: <p>Online Program 9:00 - 10:30 a.m.</p></div>&nbsp\;<div>Event Detail Page: https://www.boardoftrade.com/events/6660</div></body></html>

SUMMARY:Economic Outlook Forum - Day  2
END:VEVENT
END:VCALENDAR