
BEGIN:VCALENDAR
VERSION:2.0
CALSCALE:GREGORIAN
BEGIN:VEVENT
URL;VALUE=URI:https://www.boardoftrade.com/events/6654
DTSTART:20210309T180000Z
DTEND:20210311T200000Z
UID:6654eventcalendar.boardoftrade.com
DTSTAMP:20260419T191427Z
LOCATION:
DESCRIPTION:Schedule: \nMarch 9\, 10\, and 11\, 2021\n10:00 a.m. - 12:00 p.m. PT\n\n\n \nEvent Detail Page: https://www.boardoftrade.com/events/6654
X-ALT-DESC;FMTTYPE=text/html:<!doctype html><html><body><div>Schedule: <p>March 9\, 10\, and 11\, 2021<BR>10:00 a.m. - 12:00 p.m. PT<BR><BR></p></div>&nbsp\;<div>Event Detail Page: https://www.boardoftrade.com/events/6654</div></body></html>

SUMMARY:Foundations in Diversity and Inclusion Certificate
END:VEVENT
END:VCALENDAR