
BEGIN:VCALENDAR
VERSION:2.0
CALSCALE:GREGORIAN
BEGIN:VEVENT
URL;VALUE=URI:https://www.boardoftrade.com/events/6651
DTSTART:20201125T020000Z
DTEND:20201125T033000Z
UID:6651eventcalendar.boardoftrade.com
DTSTAMP:20260419T210724Z
LOCATION:
DESCRIPTION:Schedule: \nOnline Program: 6:00 - 7:30 p.m. \n\nYou will be sent a Zoom link to participate in this event by 2:00 p.m. PT on Tuesday\, November 24. Please do not share the link as it will inhibit your ability to join.\n \nEvent Detail Page: https://www.boardoftrade.com/events/6651
X-ALT-DESC;FMTTYPE=text/html:<!doctype html><html><body><div>Schedule: <p>Online Program: 6:00 - 7:30 p.m. <BR><BR>You will be sent a Zoom link to participate in this event by 2:00 p.m. PT on Tuesday\, November 24. Please do not share the link as it will inhibit your ability to join.</p></div>&nbsp\;<div>Event Detail Page: https://www.boardoftrade.com/events/6651</div></body></html>

SUMMARY:Virtual Peer Leadership Forum Launch
END:VEVENT
END:VCALENDAR