
BEGIN:VCALENDAR
VERSION:2.0
CALSCALE:GREGORIAN
BEGIN:VEVENT
URL;VALUE=URI:https://www.boardoftrade.com/events/6647
DTSTART:20201028T003000Z
DTEND:20201028T020000Z
UID:6647eventcalendar.boardoftrade.com
DTSTAMP:20260419T205642Z
LOCATION:
DESCRIPTION:Schedule: \nOnline Program: 5:30-7:00 p.m. PT\n\n\nYou will be sent a Zoom  link to participate in this event by 2:00 p.m. PT on Monday\, October 26. Please do not share the link as it will inhibit your ability to join.\n \nEvent Detail Page: https://www.boardoftrade.com/events/6647
X-ALT-DESC;FMTTYPE=text/html:<!doctype html><html><body><div>Schedule: <p>Online Program: 5:30-7:00 p.m. PT<BR><BR><BR><b>You will be sent a Zoom  link to participate in this event by 2:00 p.m. PT on Monday\, October 26. Please do not share the link as it will inhibit your ability to join.</b></p></div>&nbsp\;<div>Event Detail Page: https://www.boardoftrade.com/events/6647</div></body></html>

SUMMARY:Discovery Series: Adaptive Leadership
END:VEVENT
END:VCALENDAR