
BEGIN:VCALENDAR
VERSION:2.0
CALSCALE:GREGORIAN
BEGIN:VEVENT
URL;VALUE=URI:https://www.boardoftrade.com/events/6644
DTSTART:20201027T000000Z
DTEND:20201027T030000Z
UID:6644eventcalendar.boardoftrade.com
DTSTAMP:20260419T205420Z
LOCATION:Greater Vancouver Food Bank8345 Winston Street Burnaby | 
DESCRIPTION:Schedule: \nSchedule:\n4:45 p.m. –  Arrive at GVFB Warehouse Burnaby \n5:00 p.m. –  Orientation and Safety Protocols\n5:30 p.m. –  Food Sorting \n8:00 p.m. –  Sorting concludes\n\n \nEvent Detail Page: https://www.boardoftrade.com/events/6644
X-ALT-DESC;FMTTYPE=text/html:<!doctype html><html><body><div>Schedule: <p>Schedule:<BR>4:45 p.m. –  Arrive at GVFB Warehouse Burnaby <BR>5:00 p.m. –  Orientation and Safety Protocols<BR>5:30 p.m. –  Food Sorting <BR>8:00 p.m. –  Sorting concludes<BR></p></div>&nbsp\;<div>Event Detail Page: https://www.boardoftrade.com/events/6644</div></body></html>

SUMMARY:Virtual Food Drive and Food Sorting with the Greater Vancouver Food Bank
END:VEVENT
END:VCALENDAR