
BEGIN:VCALENDAR
VERSION:2.0
CALSCALE:GREGORIAN
BEGIN:VEVENT
URL;VALUE=URI:https://www.boardoftrade.com/events/6642
DTSTART:20201208T213000Z
DTEND:20201208T223000Z
UID:6642eventcalendar.boardoftrade.com
DTSTAMP:20260419T205442Z
LOCATION:
DESCRIPTION:Schedule: \nOnline Program 1:30 - 2:30 p.m. PT\n \nEvent Detail Page: https://www.boardoftrade.com/events/6642
X-ALT-DESC;FMTTYPE=text/html:<!doctype html><html><body><div>Schedule: <p>Online Program 1:30 - 2:30 p.m. PT</p></div>&nbsp\;<div>Event Detail Page: https://www.boardoftrade.com/events/6642</div></body></html>

SUMMARY:Economic Recovery Series: Transforming our Region
END:VEVENT
END:VCALENDAR