
BEGIN:VCALENDAR
VERSION:2.0
CALSCALE:GREGORIAN
BEGIN:VEVENT
URL;VALUE=URI:https://www.boardoftrade.com/events/6641
DTSTART:20201112T200000Z
DTEND:20201112T210000Z
UID:6641eventcalendar.boardoftrade.com
DTSTAMP:20260419T205139Z
LOCATION:
DESCRIPTION:Schedule: \nOnline Program 12:00 - 1:00 p.m. PT\n \nEvent Detail Page: https://www.boardoftrade.com/events/6641
X-ALT-DESC;FMTTYPE=text/html:<!doctype html><html><body><div>Schedule: <p>Online Program 12:00 - 1:00 p.m. PT</p></div>&nbsp\;<div>Event Detail Page: https://www.boardoftrade.com/events/6641</div></body></html>

SUMMARY:State of the City Address with Mayor Kennedy Stewart
END:VEVENT
END:VCALENDAR