
BEGIN:VCALENDAR
VERSION:2.0
CALSCALE:GREGORIAN
BEGIN:VEVENT
URL;VALUE=URI:https://www.boardoftrade.com/events/6628
DTSTART:20200919T180000Z
DTEND:20200919T200000Z
UID:6628eventcalendar.boardoftrade.com
DTSTAMP:20260419T210036Z
LOCATION:Jericho Beach EastConcession Stand- near east parking lot3941 Point Grey Rd | 
DESCRIPTION:Schedule: \n10:45 a.m. –   Arrive at meeting point\n11:00 a.m. –   Receive safety instructions & clean-up tools\n11:15 a.m. –  Beach cleanup begins\n1:00 p.m.   –  Cleanup concludes\n \nEvent Detail Page: https://www.boardoftrade.com/events/6628
X-ALT-DESC;FMTTYPE=text/html:<!doctype html><html><body><div>Schedule: <p>10:45 a.m. –   Arrive at meeting point<BR>11:00 a.m. –   Receive safety instructions & clean-up tools<BR>11:15 a.m. –  Beach cleanup begins<BR>1:00 p.m.   –  Cleanup concludes</p></div>&nbsp\;<div>Event Detail Page: https://www.boardoftrade.com/events/6628</div></body></html>

SUMMARY:Jericho Beach Clean-Up!
END:VEVENT
END:VCALENDAR