
BEGIN:VCALENDAR
VERSION:2.0
CALSCALE:GREGORIAN
BEGIN:VEVENT
URL;VALUE=URI:https://www.boardoftrade.com/events/6627
DTSTART:20201103T163000Z
DTEND:20201104T010000Z
UID:6627eventcalendar.boardoftrade.com
DTSTAMP:20260419T211859Z
LOCATION:
DESCRIPTION:Schedule: \nRegistration:  8:45 a.m. - 9:00 a.m. \nProgram:  9:00 a.m. - 12:00p.m.\n \nEvent Detail Page: https://www.boardoftrade.com/events/6627
X-ALT-DESC;FMTTYPE=text/html:<!doctype html><html><body><div>Schedule: <p>Registration: &nbsp\;8:45 a.m. - 9:00 a.m. <BR>Program: &nbsp\;9:00 a.m. - 12:00p.m.</p></div>&nbsp\;<div>Event Detail Page: https://www.boardoftrade.com/events/6627</div></body></html>

SUMMARY:Creative Industry Trade Accelerator Program
END:VEVENT
END:VCALENDAR