
BEGIN:VCALENDAR
VERSION:2.0
CALSCALE:GREGORIAN
BEGIN:VEVENT
URL;VALUE=URI:https://www.boardoftrade.com/events/6624
DTSTART:20201210T200000Z
DTEND:20201210T210000Z
UID:6624eventcalendar.boardoftrade.com
DTSTAMP:20260419T191048Z
LOCATION:
DESCRIPTION:Schedule: \nOnline Program 12:00 - 1:00 p.m.\n \nEvent Detail Page: https://www.boardoftrade.com/events/6624
X-ALT-DESC;FMTTYPE=text/html:<!doctype html><html><body><div>Schedule: <p>Online Program 12:00 - 1:00 p.m.</p></div>&nbsp\;<div>Event Detail Page: https://www.boardoftrade.com/events/6624</div></body></html>

SUMMARY:COVID-19 pandemic highlights Port of Vancouver’s vital role in Canada's supply chain
END:VEVENT
END:VCALENDAR