
BEGIN:VCALENDAR
VERSION:2.0
CALSCALE:GREGORIAN
BEGIN:VEVENT
URL;VALUE=URI:https://www.boardoftrade.com/events/6621
DTSTART:20201001T190000Z
DTEND:20201001T203000Z
UID:6621eventcalendar.boardoftrade.com
DTSTAMP:20260419T211858Z
LOCATION:
DESCRIPTION:Schedule: \nOnline Program 12:00-1:30 p.m. \nYou will be sent a Zoom link to participate in this event by 10:00 a.m. PT on Thursday\, October 1. Please do not share the link as it will inhibit your ability to join.\n\n\n \nEvent Detail Page: https://www.boardoftrade.com/events/6621
X-ALT-DESC;FMTTYPE=text/html:<!doctype html><html><body><div>Schedule: <p>Online Program 12:00-1:30 p.m. <BR><b>You will be sent a Zoom link to participate in this event by 10:00 a.m. PT on Thursday\, October 1. Please do not share the link as it will inhibit your ability to join.</b><BR><BR></p></div>&nbsp\;<div>Event Detail Page: https://www.boardoftrade.com/events/6621</div></body></html>

SUMMARY:Business Reinvention with Arlene Dickinson
END:VEVENT
END:VCALENDAR